BEGIN:VCALENDAR
VERSION:2.0
PRODID:-// - ECPv6.15.20//NONSGML v1.0//EN
CALSCALE:GREGORIAN
METHOD:PUBLISH
X-ORIGINAL-URL:https://veronika-donner.de
X-WR-CALDESC:Veranstaltungen für 
REFRESH-INTERVAL;VALUE=DURATION:PT1H
X-Robots-Tag:noindex
X-PUBLISHED-TTL:PT1H
BEGIN:VTIMEZONE
TZID:UTC
BEGIN:STANDARD
TZOFFSETFROM:+0000
TZOFFSETTO:+0000
TZNAME:UTC
DTSTART:20250101T000000
END:STANDARD
END:VTIMEZONE
BEGIN:VEVENT
DTSTART;TZID=UTC:20260508T190000
DTEND;TZID=UTC:20260508T213000
DTSTAMP:20260423T165320
CREATED:20260409T164729Z
LAST-MODIFIED:20260410T143559Z
UID:349-1778266800-1778275800@veronika-donner.de
SUMMARY:Konzert in Weilheim
DESCRIPTION:Zeremonielles Konzert mit Veronika Donner – Botschaft der Erde\, Weilheim \n\n\n\n  \n\n\n\nVeronikas Musik ist eine sanfte Erinnerung an das Wunder\, das in allem wohnt. Mit ihren Liedern lädt Veronika ein zum Träumen\, Lauschen und Mitsingen. Ihre Melodien sind wie ein leises Flüstern der Erde\, ihre Worte lassen die zarte Lebendigkeit unserer Existenz spürbar werden und öffnen uns für Schönheit und Wildheit der Natur und die Magie der Verbundenheit im großen Flechtwerk unserer Welt \n\n\n\nDer Abend ist als zeremonielles Konzert gedacht – eine musikalische Reise ins eigene Herz. Ein tiefes Ausatmen\, ein Innehalten\, ein Kraftschöpfen im eigenen inneren Garten. \n\n\n\nDie Botschaft der Erde ist ein Ort der Verbindung zur Erdenseele. In diesem Rahmen entfalten Veronikas Lieder ihre Tiefe und werden zu einer Reise in die wilde Schönheit der Schöpfung. \n\n\n\nEintritt: 20–30 € nach Selbsteinschätzung (Abendkasse)Einlass: ab 19:00 UhrBeginn: 19:30 Uhr \n\n\n\n\n\n\n\nBotschaft der Erde – Franziskusweg 37 – 82362 Weilheim \n\n\n\nKontakt: mail@veronika-donner.de
URL:https://veronika-donner.de/veranstaltungen-single-post-name/konzert-in-weilheim/
END:VEVENT
END:VCALENDAR